BEGIN:VCALENDAR
VERSION:2.0
PRODID:-//eventon.com NONSGML v1.0//EN
CALSCALE:GREGORIAN
METHOD:PUBLISH
BEGIN:VEVENT
UID:69e8ee10790b4
DTSTAMP:20260422T154936Z
DTSTART:20230518T014500Z
DTEND:20230518T021500Z
LOCATION:
SUMMARY:Track 3: Staying on the right side of the law in AI value creation: From IP strategies to Board duties & regulatory landscapes
DESCRIPTION:\nhttps://cdoiq-apac.org/events/session-13-3-tbd/
URL:https://cdoiq-apac.org/events/session-13-3-tbd/
END:VEVENT
END:VCALENDAR