BEGIN:VCALENDAR
VERSION:2.0
PRODID:-//eventon.com NONSGML v1.0//EN
CALSCALE:GREGORIAN
METHOD:PUBLISH
BEGIN:VEVENT
UID:69e8edd82b003
DTSTAMP:20260422T154840Z
DTSTART:20230517T070000Z
DTEND:20230517T073000Z
LOCATION:
SUMMARY:Track 1: The Data Integrity Imperative: Trends and Insights for 2023 and Beyond
DESCRIPTION:&nbsp; &nbsp;\nhttps://cdoiq-apac.org/events/session-14-1-tbd/
URL:https://cdoiq-apac.org/events/session-14-1-tbd/
END:VEVENT
END:VCALENDAR