BEGIN:VCALENDAR
VERSION:2.0
PRODID:-//eventon.com NONSGML v1.0//EN
CALSCALE:GREGORIAN
METHOD:PUBLISH
BEGIN:VEVENT
UID:69e8ec3c0ee83
DTSTAMP:20260422T154148Z
DTSTART:20230518T021500Z
DTEND:20230518T024500Z
LOCATION:
SUMMARY:TRACK 2: INNOVATIVE GENERATIVE AI FOR ADVANCED VALUE CREATION
DESCRIPTION:\nhttps://cdoiq-apac.org/events/session-14-2-tbd/
URL:https://cdoiq-apac.org/events/session-14-2-tbd/
END:VEVENT
END:VCALENDAR