BEGIN:VCALENDAR
VERSION:2.0
PRODID:-//eventon.com NONSGML v1.0//EN
CALSCALE:GREGORIAN
METHOD:PUBLISH
BEGIN:VEVENT
UID:69e8ecf70425e
DTSTAMP:20260422T154455Z
DTSTART:20230518T021500Z
DTEND:20230518T024500Z
LOCATION:
SUMMARY:TRACK 3: BUILDING ETHICAL ALGORITHMS: THE CHALLENGE FOR DATA AND AI ENGINEERS
DESCRIPTION:\nhttps://cdoiq-apac.org/events/session-14-3/
URL:https://cdoiq-apac.org/events/session-14-3/
END:VEVENT
END:VCALENDAR