BEGIN:VCALENDAR
VERSION:2.0
PRODID:-//eventon.com NONSGML v1.0//EN
CALSCALE:GREGORIAN
METHOD:PUBLISH
BEGIN:VEVENT
UID:69e8ed0780e46
DTSTAMP:20260422T154511Z
DTSTART:20230518T024500Z
DTEND:20230518T031500Z
LOCATION:
SUMMARY:Break & Networking
DESCRIPTION:\nhttps://cdoiq-apac.org/events/break-networking-3/
URL:https://cdoiq-apac.org/events/break-networking-3/
END:VEVENT
END:VCALENDAR