BEGIN:VCALENDAR
VERSION:2.0
PRODID:-//eventon.com NONSGML v1.0//EN
CALSCALE:GREGORIAN
METHOD:PUBLISH
BEGIN:VEVENT
UID:69e8ed0d362ae
DTSTAMP:20260422T154517Z
DTSTART:20230518T031500Z
DTEND:20230518T041500Z
LOCATION:
SUMMARY:Panel Session: Data Governance and Ethics in the Practice of Analytics\,  Machine Learning and AI
DESCRIPTION:&nbsp; &nbsp; &nbsp;\nhttps://cdoiq-apac.org/events/session-15-
 data-governance-and-ethics-in-the-practice-of-analytics-machine-learning-an
 d-ai/
URL:https://cdoiq-apac.org/events/session-15-data-governance-and-ethics-in-the-practice-of-analytics-machine-learning-and-ai/
END:VEVENT
END:VCALENDAR