BEGIN:VCALENDAR
VERSION:2.0
PRODID:-//eventon.com NONSGML v1.0//EN
CALSCALE:GREGORIAN
METHOD:PUBLISH
BEGIN:VEVENT
UID:69e8ee27d2f8a
DTSTAMP:20260422T154959Z
DTSTART:20230518T041500Z
DTEND:20230518T050000Z
LOCATION:
SUMMARY:TOWNHALL & FEEDBACK: Closing Remarks
DESCRIPTION:TOWNHALL & FEEDBACK: Closing Remarks\nhttps://cdoiq-apac.org/ev
 ents/closing-remarks-2/
URL:https://cdoiq-apac.org/events/closing-remarks-2/
END:VEVENT
END:VCALENDAR