BEGIN:VCALENDAR
VERSION:2.0
PRODID:-//eventon.com NONSGML v1.0//EN
CALSCALE:GREGORIAN
METHOD:PUBLISH
BEGIN:VEVENT
UID:69e8ec889d942
DTSTAMP:20260422T154304Z
DTSTART:20230518T050000Z
DTEND:20230518T060000Z
LOCATION:
SUMMARY:LUNCH & NETWORKING
DESCRIPTION:\nhttps://cdoiq-apac.org/events/lunch-networking-2/
URL:https://cdoiq-apac.org/events/lunch-networking-2/
END:VEVENT
END:VCALENDAR