BEGIN:VCALENDAR
VERSION:2.0
PRODID:-//eventon.com NONSGML v1.0//EN
CALSCALE:GREGORIAN
METHOD:PUBLISH
BEGIN:VEVENT
UID:69e8ee2f81dff
DTSTAMP:20260422T155007Z
DTSTART:20230518T060000Z
DTEND:20230518T060000Z
LOCATION:
SUMMARY:End of CDOIQ-APAC Symposium
DESCRIPTION:&nbsp; &nbsp; &nbsp;\nhttps://cdoiq-apac.org/events/end-of-cdoi
 q-apac-symposium/
URL:https://cdoiq-apac.org/events/end-of-cdoiq-apac-symposium/
END:VEVENT
END:VCALENDAR