BEGIN:VCALENDAR
VERSION:2.0
PRODID:-//eventon.com NONSGML v1.0//EN
CALSCALE:GREGORIAN
METHOD:PUBLISH
BEGIN:VEVENT
UID:69e8ec93da2d2
DTSTAMP:20260422T154315Z
DTSTART:20230517T030000Z
DTEND:20230517T033000Z
LOCATION:
SUMMARY:Track 1: Personal Data Privacy\,  Industry Data Regulations and Data Security – Three Sides to the Same Coin
DESCRIPTION:\nhttps://cdoiq-apac.org/events/session-3-3/
URL:https://cdoiq-apac.org/events/session-3-3/
END:VEVENT
END:VCALENDAR