BEGIN:VCALENDAR
VERSION:2.0
PRODID:-//eventon.com NONSGML v1.0//EN
CALSCALE:GREGORIAN
METHOD:PUBLISH
BEGIN:VEVENT
UID:69e8ecf176a31
DTSTAMP:20260422T154449Z
DTSTART:20230518
DTEND:20230519
LOCATION:
SUMMARY:Day 2
DESCRIPTION:Day 2\nhttps://cdoiq-apac.org/events/day-2/
URL:https://cdoiq-apac.org/events/day-2/
END:VEVENT
END:VCALENDAR